BEGIN:VCALENDAR
VERSION:2.0
PRODID:-//conftool/conftoolAgenda//NONSGML v1.0//EN
CALSCALE:GREGORIAN
METHOD:PUBLISH
X-MS-OLK-FORCEINSPECTOROPEN:TRUE
X-WR-TIMEZONE:America/New_York
BEGIN:VTIMEZONE
TZID:America/New_York
LAST-MODIFIED:20260419T094835Z
X-MICROSOFT-CDO-TZID:10
BEGIN:DAYLIGHT
DTSTART:20240310T070000
TZOFFSETFROM:-500
TZOFFSETTO:-400
TZNAME:EDT
END:DAYLIGHT
BEGIN:STANDARD
DTSTART:20241103T060000
TZOFFSETFROM:-400
TZOFFSETTO:-500
TZNAME:EST
END:STANDARD
END:VTIMEZONE
BEGIN:VEVENT
UID:1109370fa48457ab9f6da22d15d7170624a9
DTSTAMP:20260419T094835
DTSTART;TZID=America/New_York:20240514T133000
DTEND;TZID=America/New_York:20240514T153000
LOCATION:MC 8-100
SUMMARY:03-03: Can lower-cost approaches to rural land titling increase tenure security? | Research Track 2024 Land Conference
DESCRIPTION:https://www.conftool.com/research-track-landconference2024/index.php?page=browseSessions&form_session=1109&presentations=show
BEGIN:VALARM
TRIGGER:-PT0M
ACTION:DISPLAY
DESCRIPTION:03-03: Can lower-cost approaches to rural land titling increase tenure security? | Research Track 2024 Land Conference
REPEAT:0
END:VALARM
END:VEVENT
END:VCALENDAR
