BEGIN:VCALENDAR
VERSION:2.0
PRODID:-//conftool/conftoolAgenda//NONSGML v1.0//EN
CALSCALE:GREGORIAN
METHOD:PUBLISH
X-MS-OLK-FORCEINSPECTOROPEN:TRUE
X-WR-TIMEZONE:America/New_York
BEGIN:VTIMEZONE
TZID:America/New_York
LAST-MODIFIED:20260424T061107Z
X-MICROSOFT-CDO-TZID:10
BEGIN:DAYLIGHT
DTSTART:20240310T070000
TZOFFSETFROM:-500
TZOFFSETTO:-400
TZNAME:EDT
END:DAYLIGHT
BEGIN:STANDARD
DTSTART:20241103T060000
TZOFFSETFROM:-400
TZOFFSETTO:-500
TZNAME:EST
END:STANDARD
END:VTIMEZONE
BEGIN:VEVENT
UID:1107f6f3fdf985677ac81f4fb38589667d31
DTSTAMP:20260424T061107
DTSTART;TZID=America/New_York:20240514T103000
DTEND;TZID=America/New_York:20240514T123000
LOCATION:MC 8-100
SUMMARY:03-02: Do institutional design and state capacity affect demand for property title and sustainability?? | Research Track 2024 Land Conference
DESCRIPTION:https://www.conftool.com/research-track-landconference2024/index.php?page=browseSessions&form_session=1107&presentations=show
BEGIN:VALARM
TRIGGER:-PT0M
ACTION:DISPLAY
DESCRIPTION:03-02: Do institutional design and state capacity affect demand for property title and sustainability?? | Research Track 2024 Land Conference
REPEAT:0
END:VALARM
END:VEVENT
END:VCALENDAR
