BEGIN:VCALENDAR
VERSION:2.0
PRODID:-//conftool/conftoolAgenda//NONSGML v1.0//EN
CALSCALE:GREGORIAN
METHOD:PUBLISH
X-MS-OLK-FORCEINSPECTOROPEN:TRUE
X-WR-TIMEZONE:Europe/Vienna
BEGIN:VTIMEZONE
TZID:Europe/Vienna
LAST-MODIFIED:20260424T133508Z
BEGIN:STANDARD
DTSTART:20251026T010000
TZOFFSETFROM:+0200
TZOFFSETTO:+0100
TZNAME:CET
END:STANDARD
BEGIN:DAYLIGHT
DTSTART:20260329T010000
TZOFFSETFROM:+0100
TZOFFSETTO:+0200
TZNAME:CEST
END:DAYLIGHT
END:VTIMEZONE
BEGIN:VEVENT
UID:24f2fcd425e159da64374f9649c9ff53f7
DTSTAMP:20260424T133508
DTSTART;TZID=Europe/Vienna:20260117T120000
DTEND;TZID=Europe/Vienna:20260117T121500
LOCATION:Veranstaltungsraum IGLS
SUMMARY:Verabschiedung - Ausblick - Kongressende | ICW 2026
DESCRIPTION:https://www.conftool.com/icw2026/index.php?page=browseSessions&form_session=24&presentations=show
BEGIN:VALARM
TRIGGER:-PT0M
ACTION:DISPLAY
DESCRIPTION:Verabschiedung - Ausblick - Kongressende | ICW 2026
REPEAT:0
END:VALARM
END:VEVENT
END:VCALENDAR
