BEGIN:VCALENDAR
VERSION:2.0
PRODID:-//conftool/conftoolAgenda//NONSGML v1.0//EN
CALSCALE:GREGORIAN
METHOD:PUBLISH
X-MS-OLK-FORCEINSPECTOROPEN:TRUE
X-WR-TIMEZONE:Europe/Vienna
BEGIN:VTIMEZONE
TZID:Europe/Vienna
LAST-MODIFIED:20260424T134438Z
BEGIN:STANDARD
DTSTART:20251026T010000
TZOFFSETFROM:+0200
TZOFFSETTO:+0100
TZNAME:CET
END:STANDARD
BEGIN:DAYLIGHT
DTSTART:20260329T010000
TZOFFSETFROM:+0100
TZOFFSETTO:+0200
TZNAME:CEST
END:DAYLIGHT
END:VTIMEZONE
BEGIN:VEVENT
UID:22ce0ecd60b9e20d6d64e75b792d866ad3
DTSTAMP:20260424T134438
DTSTART;TZID=Europe/Vienna:20260116T123000
DTEND;TZID=Europe/Vienna:20260116T153000
LOCATION:Eislaufplatz Igls
SUMMARY:Eisstockschießen | ICW 2026
DESCRIPTION:https://www.conftool.com/icw2026/index.php?page=browseSessions&form_session=22&presentations=show
BEGIN:VALARM
TRIGGER:-PT0M
ACTION:DISPLAY
DESCRIPTION:Eisstockschießen | ICW 2026
REPEAT:0
END:VALARM
END:VEVENT
END:VCALENDAR
