BEGIN:VCALENDAR
VERSION:2.0
PRODID:-//conftool/conftoolAgenda//NONSGML v1.0//EN
CALSCALE:GREGORIAN
METHOD:PUBLISH
X-MS-OLK-FORCEINSPECTOROPEN:TRUE
X-WR-TIMEZONE:Europe/Vienna
BEGIN:VTIMEZONE
TZID:Europe/Vienna
LAST-MODIFIED:20260424T134439Z
BEGIN:STANDARD
DTSTART:20251026T010000
TZOFFSETFROM:+0200
TZOFFSETTO:+0100
TZNAME:CET
END:STANDARD
BEGIN:DAYLIGHT
DTSTART:20260329T010000
TZOFFSETFROM:+0100
TZOFFSETTO:+0200
TZNAME:CEST
END:DAYLIGHT
END:VTIMEZONE
BEGIN:VEVENT
UID:1724aef0a896de26a2512774730f8b290f
DTSTAMP:20260424T134439
DTSTART;TZID=Europe/Vienna:20260117T080000
DTEND;TZID=Europe/Vienna:20260117T091500
LOCATION:Veranstaltungsraum IGLS
SUMMARY:Kurzdarmsyndrom | ICW 2026
DESCRIPTION:https://www.conftool.com/icw2026/index.php?page=browseSessions&form_session=17&presentations=show
BEGIN:VALARM
TRIGGER:-PT0M
ACTION:DISPLAY
DESCRIPTION:Kurzdarmsyndrom | ICW 2026
REPEAT:0
END:VALARM
END:VEVENT
END:VCALENDAR
