BEGIN:VCALENDAR
VERSION:2.0
PRODID:-//conftool/conftoolAgenda//NONSGML v1.0//EN
CALSCALE:GREGORIAN
METHOD:PUBLISH
X-MS-OLK-FORCEINSPECTOROPEN:TRUE
X-WR-TIMEZONE:Europe/Berlin
BEGIN:VTIMEZONE
TZID:Europe/Berlin
LAST-MODIFIED:20260424T134419Z
X-MICROSOFT-CDO-TZID:4
BEGIN:STANDARD
DTSTART:20251026T010000
TZOFFSETFROM:+0200
TZOFFSETTO:+0100
TZNAME:CET
END:STANDARD
BEGIN:DAYLIGHT
DTSTART:20260329T010000
TZOFFSETFROM:+0100
TZOFFSETTO:+0200
TZNAME:CEST
END:DAYLIGHT
END:VTIMEZONE
BEGIN:VEVENT
UID:61ade0c347588694af90f22e555bc1684e
DTSTAMP:20260424T134419
DTSTART;TZID=Europe/Berlin:20251016T180000
DTEND;TZID=Europe/Berlin:20251016T200000
LOCATION:Seminarraum 0.04
SUMMARY:Arbeitstreffen der AGs der GMTH | GMTH 2025
DESCRIPTION:https://www.conftool.com/gmth2025/index.php?page=browseSessions&form_session=61&presentations=show
BEGIN:VALARM
TRIGGER:-PT0M
ACTION:DISPLAY
DESCRIPTION:Arbeitstreffen der AGs der GMTH | GMTH 2025
REPEAT:0
END:VALARM
END:VEVENT
END:VCALENDAR
