BEGIN:VCALENDAR
VERSION:2.0
PRODID:-//conftool/conftoolAgenda//NONSGML v1.0//EN
CALSCALE:GREGORIAN
METHOD:PUBLISH
X-MS-OLK-FORCEINSPECTOROPEN:TRUE
X-WR-TIMEZONE:Europe/Berlin
BEGIN:VTIMEZONE
TZID:Europe/Berlin
LAST-MODIFIED:20260424T134439Z
X-MICROSOFT-CDO-TZID:4
BEGIN:STANDARD
DTSTART:20251026T010000
TZOFFSETFROM:+0200
TZOFFSETTO:+0100
TZNAME:CET
END:STANDARD
BEGIN:DAYLIGHT
DTSTART:20260329T010000
TZOFFSETFROM:+0100
TZOFFSETTO:+0200
TZNAME:CEST
END:DAYLIGHT
END:VTIMEZONE
BEGIN:VEVENT
UID:513da8f1bfeacd1622ec4930b0773de28d
DTSTAMP:20260424T134439
DTSTART;TZID=Europe/Berlin:20251003T200000
DTEND;TZID=Europe/Berlin:20251003T220000
LOCATION:Orgelraum 2.22
SUMMARY:Buxtehude Rekonstruktions-Workshop mit Ton Koopman | GMTH 2025
DESCRIPTION:https://www.conftool.com/gmth2025/index.php?page=browseSessions&form_session=51&presentations=show
BEGIN:VALARM
TRIGGER:-PT0M
ACTION:DISPLAY
DESCRIPTION:Buxtehude Rekonstruktions-Workshop mit Ton Koopman | GMTH 2025
REPEAT:0
END:VALARM
END:VEVENT
END:VCALENDAR
