BEGIN:VCALENDAR
VERSION:2.0
PRODID:-//conftool/conftoolAgenda//NONSGML v1.0//EN
CALSCALE:GREGORIAN
METHOD:PUBLISH
X-MS-OLK-FORCEINSPECTOROPEN:TRUE
X-WR-TIMEZONE:Europe/Berlin
BEGIN:VTIMEZONE
TZID:Europe/Berlin
LAST-MODIFIED:20260424T134434Z
X-MICROSOFT-CDO-TZID:4
BEGIN:STANDARD
DTSTART:20251026T010000
TZOFFSETFROM:+0200
TZOFFSETTO:+0100
TZNAME:CET
END:STANDARD
BEGIN:DAYLIGHT
DTSTART:20260329T010000
TZOFFSETFROM:+0100
TZOFFSETTO:+0200
TZNAME:CEST
END:DAYLIGHT
END:VTIMEZONE
BEGIN:VEVENT
UID:341de3d6c9ca1d07de47d2427d9268947e
DTSTAMP:20260424T134434
DTSTART;TZID=Europe/Berlin:20251018T193000
DTEND;TZID=Europe/Berlin:20251018T203000
LOCATION:Großer Saal
SUMMARY:Romitelli-Konzert | GMTH 2025
DESCRIPTION:*Fausto Romitelli (1963-2004) _An Index of Metals_ (2003)*\n\nVideo-Oper für Sopran\, Ensemble\, Elektronik und Multiprojektion\nhttps://www.conftool.com/gmth2025/index.php?page=browseSessions&form_session=34&presentations=show
BEGIN:VALARM
TRIGGER:-PT0M
ACTION:DISPLAY
DESCRIPTION:Romitelli-Konzert | GMTH 2025
REPEAT:0
END:VALARM
END:VEVENT
END:VCALENDAR
