BEGIN:VCALENDAR
VERSION:2.0
PRODID:-//conftool/conftoolAgenda//NONSGML v1.0//EN
CALSCALE:GREGORIAN
METHOD:PUBLISH
X-MS-OLK-FORCEINSPECTOROPEN:TRUE
X-WR-TIMEZONE:Europe/Berlin
BEGIN:VTIMEZONE
TZID:Europe/Berlin
LAST-MODIFIED:20260424T134433Z
X-MICROSOFT-CDO-TZID:4
BEGIN:STANDARD
DTSTART:20251026T010000
TZOFFSETFROM:+0200
TZOFFSETTO:+0100
TZNAME:CET
END:STANDARD
BEGIN:DAYLIGHT
DTSTART:20260329T010000
TZOFFSETFROM:+0100
TZOFFSETTO:+0200
TZNAME:CEST
END:DAYLIGHT
END:VTIMEZONE
BEGIN:VEVENT
UID:17aa9a4bec9e3fafcc81efea57da8301d1
DTSTAMP:20260424T134433
DTSTART;TZID=Europe/Berlin:20251017T193000
DTEND;TZID=Europe/Berlin:20251017T210000
LOCATION:St.-Jakobi-Kirche
SUMMARY:Buxtehude-Konzert | GMTH 2025
DESCRIPTION:*Dieterich Buxtehude (um 1637-1707) Eine Abendmusik mit Originalwerken und Rekonstruktionen* mit Preisverleihung des 14. Künstlerischen Wettbewerbs der GMTH\nhttps://www.conftool.com/gmth2025/index.php?page=browseSessions&form_session=17&presentations=show
BEGIN:VALARM
TRIGGER:-PT0M
ACTION:DISPLAY
DESCRIPTION:Buxtehude-Konzert | GMTH 2025
REPEAT:0
END:VALARM
END:VEVENT
END:VCALENDAR
