BEGIN:VCALENDAR
VERSION:2.0
PRODID:-//conftool/conftoolAgenda//NONSGML v1.0//EN
CALSCALE:GREGORIAN
METHOD:PUBLISH
X-MS-OLK-FORCEINSPECTOROPEN:TRUE
X-WR-TIMEZONE:Europe/Berlin
BEGIN:VTIMEZONE
TZID:Europe/Berlin
LAST-MODIFIED:20260424T134440Z
X-MICROSOFT-CDO-TZID:4
BEGIN:STANDARD
DTSTART:20251026T010000
TZOFFSETFROM:+0200
TZOFFSETTO:+0100
TZNAME:CET
END:STANDARD
BEGIN:DAYLIGHT
DTSTART:20260329T010000
TZOFFSETFROM:+0100
TZOFFSETTO:+0200
TZNAME:CEST
END:DAYLIGHT
END:VTIMEZONE
BEGIN:VEVENT
UID:131a2b92e125f03e4a4ae953ed360ec297
DTSTAMP:20260424T134440
DTSTART;TZID=Europe/Berlin:20251017T163000
DTEND;TZID=Europe/Berlin:20251017T180000
LOCATION:Raum 18
SUMMARY:I. Orale Traditionen | GMTH 2025
DESCRIPTION:https://www.conftool.com/gmth2025/index.php?page=browseSessions&form_session=13&presentations=show
BEGIN:VALARM
TRIGGER:-PT0M
ACTION:DISPLAY
DESCRIPTION:I. Orale Traditionen | GMTH 2025
REPEAT:0
END:VALARM
END:VEVENT
END:VCALENDAR
