BEGIN:VCALENDAR
VERSION:2.0
PRODID:-//conftool/conftoolAgenda//NONSGML v1.0//EN
CALSCALE:GREGORIAN
METHOD:PUBLISH
X-MS-OLK-FORCEINSPECTOROPEN:TRUE
X-WR-TIMEZONE:Europe/Berlin
BEGIN:VTIMEZONE
TZID:Europe/Berlin
LAST-MODIFIED:20260424T134433Z
X-MICROSOFT-CDO-TZID:4
BEGIN:STANDARD
DTSTART:20251026T010000
TZOFFSETFROM:+0200
TZOFFSETTO:+0100
TZNAME:CET
END:STANDARD
BEGIN:DAYLIGHT
DTSTART:20260329T010000
TZOFFSETFROM:+0100
TZOFFSETTO:+0200
TZNAME:CEST
END:DAYLIGHT
END:VTIMEZONE
BEGIN:VEVENT
UID:1148811cba8359a550d0275cd4645c89f1
DTSTAMP:20260424T134433
DTSTART;TZID=Europe/Berlin:20251017T143000
DTEND;TZID=Europe/Berlin:20251017T160000
LOCATION:Hörsaal 1.03
SUMMARY:IV. Das (un-)scharfe Gehör | GMTH 2025
DESCRIPTION:https://www.conftool.com/gmth2025/index.php?page=browseSessions&form_session=11&presentations=show
BEGIN:VALARM
TRIGGER:-PT0M
ACTION:DISPLAY
DESCRIPTION:IV. Das (un-)scharfe Gehör | GMTH 2025
REPEAT:0
END:VALARM
END:VEVENT
END:VCALENDAR
