BEGIN:VCALENDAR
VERSION:2.0
PRODID:-//conftool/conftoolAgenda//NONSGML v1.0//EN
CALSCALE:GREGORIAN
METHOD:PUBLISH
X-MS-OLK-FORCEINSPECTOROPEN:TRUE
X-WR-TIMEZONE:Europe/Vienna
BEGIN:VTIMEZONE
TZID:Europe/Vienna
LAST-MODIFIED:20260424T120523Z
BEGIN:STANDARD
DTSTART:20251026T010000
TZOFFSETFROM:+0200
TZOFFSETTO:+0100
TZNAME:CET
END:STANDARD
BEGIN:DAYLIGHT
DTSTART:20260329T010000
TZOFFSETFROM:+0100
TZOFFSETTO:+0200
TZNAME:CEST
END:DAYLIGHT
END:VTIMEZONE
BEGIN:VEVENT
UID:3855f934e03c793038da8bd14f0d6d69c
DTSTAMP:20260424T120523
DTSTART;TZID=Europe/Vienna:20251112T144500
DTEND;TZID=Europe/Vienna:20251112T160000
LOCATION:Room Tokio
SUMMARY:Symposium 1: Transplantation und Hepatobiliäre Chirurgie | ChirFor 2025
DESCRIPTION:https://www.conftool.com/chirfor-2025/index.php?page=browseSessions&form_session=3&presentations=show
BEGIN:VALARM
TRIGGER:-PT0M
ACTION:DISPLAY
DESCRIPTION:Symposium 1: Transplantation und Hepatobiliäre Chirurgie | ChirFor 2025
REPEAT:0
END:VALARM
END:VEVENT
END:VCALENDAR
