BEGIN:VCALENDAR
VERSION:2.0
PRODID:-//conftool/conftoolAgenda//NONSGML v1.0//EN
CALSCALE:GREGORIAN
METHOD:PUBLISH
X-MS-OLK-FORCEINSPECTOROPEN:TRUE
X-WR-TIMEZONE:Europe/Vienna
BEGIN:VTIMEZONE
TZID:Europe/Vienna
LAST-MODIFIED:20260424T120522Z
BEGIN:STANDARD
DTSTART:20251026T010000
TZOFFSETFROM:+0200
TZOFFSETTO:+0100
TZNAME:CET
END:STANDARD
BEGIN:DAYLIGHT
DTSTART:20260329T010000
TZOFFSETFROM:+0100
TZOFFSETTO:+0200
TZNAME:CEST
END:DAYLIGHT
END:VTIMEZONE
BEGIN:VEVENT
UID:15cab63bdc73b08d2fbb81ce812a02f6b7
DTSTAMP:20260424T120522
DTSTART;TZID=Europe/Vienna:20251114T103000
DTEND;TZID=Europe/Vienna:20251114T120000
LOCATION:Room Tokio
SUMMARY:Symposium 7: Vascular\, cardiothoracic and visceral surgery | ChirFor 2025
DESCRIPTION:https://www.conftool.com/chirfor-2025/index.php?page=browseSessions&form_session=15&presentations=show
BEGIN:VALARM
TRIGGER:-PT0M
ACTION:DISPLAY
DESCRIPTION:Symposium 7: Vascular\, cardiothoracic and visceral surgery | ChirFor 2025
REPEAT:0
END:VALARM
END:VEVENT
END:VCALENDAR
