BEGIN:VCALENDAR
VERSION:2.0
PRODID:-//conftool/conftoolAgenda//NONSGML v1.0//EN
CALSCALE:GREGORIAN
METHOD:PUBLISH
X-MS-OLK-FORCEINSPECTOROPEN:TRUE
X-WR-TIMEZONE:Europe/Vienna
BEGIN:VTIMEZONE
TZID:Europe/Vienna
LAST-MODIFIED:20260424T122029Z
BEGIN:STANDARD
DTSTART:20251026T010000
TZOFFSETFROM:+0200
TZOFFSETTO:+0100
TZNAME:CET
END:STANDARD
BEGIN:DAYLIGHT
DTSTART:20260329T010000
TZOFFSETFROM:+0100
TZOFFSETTO:+0200
TZNAME:CEST
END:DAYLIGHT
END:VTIMEZONE
BEGIN:VEVENT
UID:121f0a03011bbab6499bbac4b055884748
DTSTAMP:20260424T122029
DTSTART;TZID=Europe/Vienna:20251113T144500
DTEND;TZID=Europe/Vienna:20251113T161500
LOCATION:Room Tokio
SUMMARY:Symposium 5: NextGen Surgical Research: the future is in your hands | ChirFor 2025
DESCRIPTION:https://www.conftool.com/chirfor-2025/index.php?page=browseSessions&form_session=12&presentations=show
BEGIN:VALARM
TRIGGER:-PT0M
ACTION:DISPLAY
DESCRIPTION:Symposium 5: NextGen Surgical Research: the future is in your hands | ChirFor 2025
REPEAT:0
END:VALARM
END:VEVENT
END:VCALENDAR
