BEGIN:VCALENDAR
VERSION:2.0
PRODID:-//conftool/conftoolAgenda//NONSGML v1.0//EN
CALSCALE:GREGORIAN
METHOD:PUBLISH
X-MS-OLK-FORCEINSPECTOROPEN:TRUE
X-WR-TIMEZONE:Europe/Vienna
BEGIN:VTIMEZONE
TZID:Europe/Vienna
LAST-MODIFIED:20260424T140117Z
BEGIN:STANDARD
DTSTART:20251026T010000
TZOFFSETFROM:+0200
TZOFFSETTO:+0100
TZNAME:CET
END:STANDARD
BEGIN:DAYLIGHT
DTSTART:20260329T010000
TZOFFSETFROM:+0100
TZOFFSETTO:+0200
TZNAME:CEST
END:DAYLIGHT
END:VTIMEZONE
BEGIN:VEVENT
UID:33f1cff1a06854d7c805b47b0b4103ab3d
DTSTAMP:20260424T140117
DTSTART;TZID=Europe/Vienna:20251002T143000
DTEND;TZID=Europe/Vienna:20251002T163000
LOCATION:Highflyers Lounge
SUMMARY:Vorstandssitzung & Arbeitsgruppenleitersitzung | ACO ASSO Jahrestagung 2025
DESCRIPTION:https://www.conftool.com/aco-asso-2025/index.php?page=browseSessions&form_session=33&presentations=show
BEGIN:VALARM
TRIGGER:-PT0M
ACTION:DISPLAY
DESCRIPTION:Vorstandssitzung & Arbeitsgruppenleitersitzung | ACO ASSO Jahrestagung 2025
REPEAT:0
END:VALARM
END:VEVENT
END:VCALENDAR
