BEGIN:VCALENDAR
VERSION:2.0
PRODID:-//conftool/conftoolAgenda//NONSGML v1.0//EN
CALSCALE:GREGORIAN
METHOD:PUBLISH
X-MS-OLK-FORCEINSPECTOROPEN:TRUE
X-WR-TIMEZONE:Europe/Vienna
BEGIN:VTIMEZONE
TZID:Europe/Vienna
LAST-MODIFIED:20260424T140535Z
BEGIN:STANDARD
DTSTART:20251026T010000
TZOFFSETFROM:+0200
TZOFFSETTO:+0100
TZNAME:CET
END:STANDARD
BEGIN:DAYLIGHT
DTSTART:20260329T010000
TZOFFSETFROM:+0100
TZOFFSETTO:+0200
TZNAME:CEST
END:DAYLIGHT
END:VTIMEZONE
BEGIN:VEVENT
UID:159afac3ac30885c8ffae5a85f2cc0d5c7
DTSTAMP:20260424T140535
DTSTART;TZID=Europe/Vienna:20251002T163000
DTEND;TZID=Europe/Vienna:20251002T173000
LOCATION:Highflyers Lounge
SUMMARY:Generalversammlung | ACO ASSO Jahrestagung 2025
DESCRIPTION:https://www.conftool.com/aco-asso-2025/index.php?page=browseSessions&form_session=15&presentations=show
BEGIN:VALARM
TRIGGER:-PT0M
ACTION:DISPLAY
DESCRIPTION:Generalversammlung | ACO ASSO Jahrestagung 2025
REPEAT:0
END:VALARM
END:VEVENT
END:VCALENDAR
